Package: cypress Version: 1.3.0 Command: /home/biocbuild/bbs-3.21-bioc/R/bin/R CMD build --keep-empty-dirs --no-resave-data cypress StartedAt: 2025-02-09 16:51:44 -0500 (Sun, 09 Feb 2025) EndedAt: 2025-02-09 16:56:55 -0500 (Sun, 09 Feb 2025) EllapsedTime: 311.0 seconds RetCode: 0 Status: OK PackageFile: cypress_1.3.0.tar.gz PackageFileSize: 2.616 MiB