Package: cypress Version: 1.3.0 Command: /home/biocbuild/bbs-3.21-bioc/R/bin/R CMD INSTALL cypress StartedAt: 2025-02-09 15:59:34 -0500 (Sun, 09 Feb 2025) EndedAt: 2025-02-09 16:00:03 -0500 (Sun, 09 Feb 2025) EllapsedTime: 28.6 seconds RetCode: 0 Status: OK