Package: cypress Version: 1.3.0 Command: rm -rf cypress.buildbin-libdir && mkdir cypress.buildbin-libdir && E:\biocbuild\bbs-3.21-bioc\R\bin\R.exe CMD INSTALL --build --library=cypress.buildbin-libdir cypress_1.3.0.tar.gz StartedAt: 2025-02-10 07:33:33 -0500 (Mon, 10 Feb 2025) EndedAt: 2025-02-10 07:34:19 -0500 (Mon, 10 Feb 2025) EllapsedTime: 46.5 seconds RetCode: 0 Status: OK PackageFile: cypress_1.3.0.zip PackageFileSize: 1.782 MiB