Package: cypress Version: 1.3.0 Command: chmod a+r cypress -R && E:\biocbuild\bbs-3.21-bioc\R\bin\R.exe CMD build --keep-empty-dirs --no-resave-data cypress StartedAt: 2025-02-09 18:08:33 -0500 (Sun, 09 Feb 2025) EndedAt: 2025-02-09 18:17:27 -0500 (Sun, 09 Feb 2025) EllapsedTime: 533.8 seconds RetCode: 0 Status: OK PackageFile: cypress_1.3.0.tar.gz PackageFileSize: 1.996 MiB