Package: cypress Version: 1.3.0 Command: E:\biocbuild\bbs-3.21-bioc\R\bin\R.exe CMD check --no-multiarch --install=check:cypress.install-out.txt --library=E:\biocbuild\bbs-3.21-bioc\R\library --no-vignettes --timings cypress_1.3.0.tar.gz StartedAt: 2025-02-13 00:17:17 -0500 (Thu, 13 Feb 2025) EndedAt: 2025-02-13 00:33:15 -0500 (Thu, 13 Feb 2025) EllapsedTime: 957.9 seconds RetCode: 0 Status: OK CheckDir: cypress.Rcheck Warnings: 0