Package: cypress Version: 1.3.0 Command: E:\biocbuild\bbs-3.21-bioc\R\bin\R.exe CMD INSTALL cypress StartedAt: 2025-02-09 16:12:43 -0500 (Sun, 09 Feb 2025) EndedAt: 2025-02-09 16:13:26 -0500 (Sun, 09 Feb 2025) EllapsedTime: 43.7 seconds RetCode: 0 Status: OK