Package: cytoKernel Version: 1.13.0 Command: rm -rf cytoKernel.buildbin-libdir && mkdir cytoKernel.buildbin-libdir && /Users/biocbuild/BBS/utils/build-universal.sh cytoKernel_1.13.0.tar.gz /Library/Frameworks/R.framework/Resources/bin/R cytoKernel.buildbin-libdir StartedAt: 2025-02-04 22:13:08 -0500 (Tue, 04 Feb 2025) EndedAt: 2025-02-04 22:13:21 -0500 (Tue, 04 Feb 2025) EllapsedTime: 13.3 seconds RetCode: 0 Status: OK PackageFile: cytoKernel_1.13.0.tgz PackageFileSize: 842.2 KiB