Package: cytoKernel Version: 1.13.0 Command: /home/biocbuild/R/R/bin/R CMD build --keep-empty-dirs --no-resave-data cytoKernel StartedAt: 2025-01-28 22:14:23 -0000 (Tue, 28 Jan 2025) EndedAt: 2025-01-28 22:15:27 -0000 (Tue, 28 Jan 2025) EllapsedTime: 64.0 seconds RetCode: 0 Status: OK PackageFile: cytoKernel_1.13.0.tar.gz PackageFileSize: 731.8 KiB