Package: cytoKernel Version: 1.13.0 Command: /home/biocbuild/R/R/bin/R CMD INSTALL cytoKernel StartedAt: 2025-01-29 20:02:26 -0000 (Wed, 29 Jan 2025) EndedAt: 2025-01-29 20:03:09 -0000 (Wed, 29 Jan 2025) EllapsedTime: 42.6 seconds RetCode: 0 Status: OK