Package: cytoKernel Version: 1.13.0 Command: rm -rf cytoKernel.buildbin-libdir && mkdir cytoKernel.buildbin-libdir && /Users/biocbuild/BBS/utils/build-universal.sh cytoKernel_1.13.0.tar.gz /Library/Frameworks/R.framework/Resources/bin/R cytoKernel.buildbin-libdir StartedAt: 2025-02-10 00:49:12 -0500 (Mon, 10 Feb 2025) EndedAt: 2025-02-10 00:49:57 -0500 (Mon, 10 Feb 2025) EllapsedTime: 45.1 seconds RetCode: 0 Status: OK PackageFile: cytoKernel_1.13.0.tgz PackageFileSize: 843.2 KiB