Package: cytoKernel Version: 1.13.0 Command: /Library/Frameworks/R.framework/Resources/bin/R CMD build --keep-empty-dirs --no-resave-data cytoKernel StartedAt: 2025-02-12 16:24:32 -0500 (Wed, 12 Feb 2025) EndedAt: 2025-02-12 16:25:25 -0500 (Wed, 12 Feb 2025) EllapsedTime: 52.6 seconds RetCode: 0 Status: OK PackageFile: cytoKernel_1.13.0.tar.gz PackageFileSize: 706 KiB