Package: cytoKernel Version: 1.13.0 Command: rm -rf cytoKernel.buildbin-libdir && mkdir cytoKernel.buildbin-libdir && E:\biocbuild\bbs-3.21-bioc\R\bin\R.exe CMD INSTALL --build --library=cytoKernel.buildbin-libdir cytoKernel_1.13.0.tar.gz StartedAt: 2025-02-05 07:44:57 -0500 (Wed, 05 Feb 2025) EndedAt: 2025-02-05 07:45:49 -0500 (Wed, 05 Feb 2025) EllapsedTime: 51.8 seconds RetCode: 0 Status: OK PackageFile: cytoKernel_1.13.0.zip PackageFileSize: 1.084 MiB