Package: cytoMEM Version: 1.11.0 Command: /Library/Frameworks/R.framework/Resources/bin/R CMD build --keep-empty-dirs --no-resave-data cytoMEM StartedAt: 2025-02-09 16:02:44 -0500 (Sun, 09 Feb 2025) EndedAt: 2025-02-09 16:02:51 -0500 (Sun, 09 Feb 2025) EllapsedTime: 7.1 seconds RetCode: 0 Status: OK PackageFile: cytoMEM_1.11.0.tar.gz PackageFileSize: 3.075 MiB