Package: cytoMEM Version: 1.11.0 Command: /Library/Frameworks/R.framework/Resources/bin/R CMD check --install=check:cytoMEM.install-out.txt --library=/Library/Frameworks/R.framework/Resources/library --no-vignettes --timings cytoMEM_1.11.0.tar.gz StartedAt: 2025-02-09 18:48:27 -0500 (Sun, 09 Feb 2025) EndedAt: 2025-02-09 18:48:55 -0500 (Sun, 09 Feb 2025) EllapsedTime: 28.3 seconds RetCode: 0 Status: OK CheckDir: cytoMEM.Rcheck Warnings: 0