Package: cytoMEM Version: 1.11.0 Command: /home/biocbuild/bbs-3.21-bioc/R/bin/R CMD build --keep-empty-dirs --no-resave-data cytoMEM StartedAt: 2025-02-04 16:50:32 -0500 (Tue, 04 Feb 2025) EndedAt: 2025-02-04 16:50:47 -0500 (Tue, 04 Feb 2025) EllapsedTime: 15.0 seconds RetCode: 0 Status: OK PackageFile: cytoMEM_1.11.0.tar.gz PackageFileSize: 3.061 MiB