Package: cytoMEM Version: 1.11.0 Command: /home/biocbuild/bbs-3.21-bioc/R/bin/R CMD check --install=check:cytoMEM.install-out.txt --library=/home/biocbuild/bbs-3.21-bioc/R/site-library --timings cytoMEM_1.11.0.tar.gz StartedAt: 2025-02-09 21:25:34 -0500 (Sun, 09 Feb 2025) EndedAt: 2025-02-09 21:26:34 -0500 (Sun, 09 Feb 2025) EllapsedTime: 60.0 seconds RetCode: 0 Status: OK CheckDir: cytoMEM.Rcheck Warnings: 0