Package: cytoMEM Version: 1.11.0 Command: /home/biocbuild/bbs-3.21-bioc/R/bin/R CMD INSTALL cytoMEM StartedAt: 2025-02-04 15:12:03 -0500 (Tue, 04 Feb 2025) EndedAt: 2025-02-04 15:12:09 -0500 (Tue, 04 Feb 2025) EllapsedTime: 6.2 seconds RetCode: 0 Status: OK