Package: cytoMEM Version: 1.11.0 Command: E:\biocbuild\bbs-3.21-bioc\R\bin\R.exe CMD INSTALL cytoMEM StartedAt: 2025-02-09 15:35:59 -0500 (Sun, 09 Feb 2025) EndedAt: 2025-02-09 15:36:14 -0500 (Sun, 09 Feb 2025) EllapsedTime: 14.7 seconds RetCode: 0 Status: OK