Package: cytofQC Version: 1.7.0 Command: rm -rf cytofQC.buildbin-libdir && mkdir cytofQC.buildbin-libdir && /Users/biocbuild/BBS/utils/build-universal.sh cytofQC_1.7.0.tar.gz /Library/Frameworks/R.framework/Resources/bin/R cytofQC.buildbin-libdir StartedAt: 2025-02-12 22:16:25 -0500 (Wed, 12 Feb 2025) EndedAt: 2025-02-12 22:16:40 -0500 (Wed, 12 Feb 2025) EllapsedTime: 15.3 seconds RetCode: 0 Status: OK PackageFile: cytofQC_1.7.0.tgz PackageFileSize: 1.663 MiB