Package: cytofQC Version: 1.7.0 Command: /Library/Frameworks/R.framework/Resources/bin/R CMD build --keep-empty-dirs --no-resave-data cytofQC StartedAt: 2025-02-12 16:03:02 -0500 (Wed, 12 Feb 2025) EndedAt: 2025-02-12 16:03:37 -0500 (Wed, 12 Feb 2025) EllapsedTime: 35.4 seconds RetCode: 0 Status: OK PackageFile: cytofQC_1.7.0.tar.gz PackageFileSize: 1.558 MiB