Package: cytofQC Version: 1.7.0 Command: /home/biocbuild/R/R/bin/R CMD build --keep-empty-dirs --no-resave-data cytofQC StartedAt: 2025-01-28 22:14:14 -0000 (Tue, 28 Jan 2025) EndedAt: 2025-01-28 22:16:11 -0000 (Tue, 28 Jan 2025) EllapsedTime: 117.0 seconds RetCode: 0 Status: OK PackageFile: cytofQC_1.7.0.tar.gz PackageFileSize: 1.295 MiB