Package: cytofQC Version: 1.7.0 Command: /Library/Frameworks/R.framework/Resources/bin/R CMD build --keep-empty-dirs --no-resave-data cytofQC StartedAt: 2025-02-09 16:26:45 -0500 (Sun, 09 Feb 2025) EndedAt: 2025-02-09 16:28:16 -0500 (Sun, 09 Feb 2025) EllapsedTime: 90.5 seconds RetCode: 0 Status: OK PackageFile: cytofQC_1.7.0.tar.gz PackageFileSize: 1.539 MiB