Package: cytofQC Version: 1.7.0 Command: /Library/Frameworks/R.framework/Resources/bin/R CMD check --install=check:cytofQC.install-out.txt --library=/Library/Frameworks/R.framework/Resources/library --no-vignettes --timings cytofQC_1.7.0.tar.gz StartedAt: 2025-02-12 19:53:21 -0500 (Wed, 12 Feb 2025) EndedAt: 2025-02-12 19:59:12 -0500 (Wed, 12 Feb 2025) EllapsedTime: 350.9 seconds RetCode: 0 Status: OK CheckDir: cytofQC.Rcheck Warnings: 0