Package: cytofQC Version: 1.7.0 Command: /Library/Frameworks/R.framework/Resources/bin/R CMD INSTALL cytofQC StartedAt: 2025-02-09 15:44:55 -0500 (Sun, 09 Feb 2025) EndedAt: 2025-02-09 15:45:41 -0500 (Sun, 09 Feb 2025) EllapsedTime: 45.8 seconds RetCode: 0 Status: OK