Package: cytofQC Version: 1.7.0 Command: /home/biocbuild/bbs-3.21-bioc/R/bin/R CMD check --install=check:cytofQC.install-out.txt --library=/home/biocbuild/bbs-3.21-bioc/R/site-library --timings cytofQC_1.7.0.tar.gz StartedAt: 2025-02-12 21:21:57 -0500 (Wed, 12 Feb 2025) EndedAt: 2025-02-12 21:28:01 -0500 (Wed, 12 Feb 2025) EllapsedTime: 364.5 seconds RetCode: 0 Status: OK CheckDir: cytofQC.Rcheck Warnings: 0