Package: cytofQC Version: 1.7.0 Command: /home/biocbuild/bbs-3.21-bioc/R/bin/R CMD INSTALL cytofQC StartedAt: 2025-02-09 15:52:53 -0500 (Sun, 09 Feb 2025) EndedAt: 2025-02-09 15:53:26 -0500 (Sun, 09 Feb 2025) EllapsedTime: 33.6 seconds RetCode: 0 Status: OK