Package: cytofQC Version: 1.7.0 Command: rm -rf cytofQC.buildbin-libdir && mkdir cytofQC.buildbin-libdir && E:\biocbuild\bbs-3.21-bioc\R\bin\R.exe CMD INSTALL --build --library=cytofQC.buildbin-libdir cytofQC_1.7.0.tar.gz StartedAt: 2025-02-13 07:44:16 -0500 (Thu, 13 Feb 2025) EndedAt: 2025-02-13 07:44:59 -0500 (Thu, 13 Feb 2025) EllapsedTime: 42.5 seconds RetCode: 0 Status: OK PackageFile: cytofQC_1.7.0.zip PackageFileSize: 1.341 MiB