Package: cytomapper Version: 1.19.0 Command: rm -rf cytomapper.buildbin-libdir && mkdir cytomapper.buildbin-libdir && /Users/biocbuild/BBS/utils/build-universal.sh cytomapper_1.19.0.tar.gz /Library/Frameworks/R.framework/Resources/bin/R cytomapper.buildbin-libdir StartedAt: 2025-02-05 00:35:43 -0500 (Wed, 05 Feb 2025) EndedAt: 2025-02-05 00:37:03 -0500 (Wed, 05 Feb 2025) EllapsedTime: 80.7 seconds RetCode: 0 Status: OK PackageFile: cytomapper_1.19.0.tgz PackageFileSize: 5.455 MiB