Package: cytomapper Version: 1.19.0 Command: /Library/Frameworks/R.framework/Resources/bin/R CMD build --keep-empty-dirs --no-resave-data cytomapper StartedAt: 2025-02-04 16:24:15 -0500 (Tue, 04 Feb 2025) EndedAt: 2025-02-04 16:26:06 -0500 (Tue, 04 Feb 2025) EllapsedTime: 110.9 seconds RetCode: 0 Status: OK PackageFile: cytomapper_1.19.0.tar.gz PackageFileSize: 21.48 MiB