Package: cytomapper Version: 1.19.0 Command: /Library/Frameworks/R.framework/Resources/bin/R CMD check --install=check:cytomapper.install-out.txt --library=/Library/Frameworks/R.framework/Resources/library --no-vignettes --timings cytomapper_1.19.0.tar.gz StartedAt: 2025-02-09 20:04:59 -0500 (Sun, 09 Feb 2025) EndedAt: 2025-02-09 20:21:59 -0500 (Sun, 09 Feb 2025) EllapsedTime: 1020.5 seconds RetCode: 0 Status: OK CheckDir: cytomapper.Rcheck Warnings: 0