Package: cytomapper Version: 1.19.0 Command: /home/biocbuild/bbs-3.21-bioc/R/bin/R CMD build --keep-empty-dirs --no-resave-data cytomapper StartedAt: 2025-02-04 16:50:26 -0500 (Tue, 04 Feb 2025) EndedAt: 2025-02-04 16:52:01 -0500 (Tue, 04 Feb 2025) EllapsedTime: 95.2 seconds RetCode: 0 Status: OK PackageFile: cytomapper_1.19.0.tar.gz PackageFileSize: 20.96 MiB