Package: cytomapper Version: 1.19.0 Command: /home/biocbuild/bbs-3.21-bioc/R/bin/R CMD INSTALL cytomapper StartedAt: 2025-02-04 15:33:07 -0500 (Tue, 04 Feb 2025) EndedAt: 2025-02-04 15:34:02 -0500 (Tue, 04 Feb 2025) EllapsedTime: 55.0 seconds RetCode: 0 Status: OK