Package: cytoviewer Version: 1.7.0 Command: /Library/Frameworks/R.framework/Resources/bin/R CMD build --keep-empty-dirs --no-resave-data cytoviewer StartedAt: 2025-02-04 16:03:57 -0500 (Tue, 04 Feb 2025) EndedAt: 2025-02-04 16:04:27 -0500 (Tue, 04 Feb 2025) EllapsedTime: 30.3 seconds RetCode: 0 Status: OK PackageFile: cytoviewer_1.7.0.tar.gz PackageFileSize: 9.261 MiB