Package: cytoviewer Version: 1.7.0 Command: /Library/Frameworks/R.framework/Resources/bin/R CMD check --install=check:cytoviewer.install-out.txt --library=/Library/Frameworks/R.framework/Resources/library --no-vignettes --timings cytoviewer_1.7.0.tar.gz StartedAt: 2025-02-09 18:49:04 -0500 (Sun, 09 Feb 2025) EndedAt: 2025-02-09 18:51:14 -0500 (Sun, 09 Feb 2025) EllapsedTime: 129.5 seconds RetCode: 0 Status: OK CheckDir: cytoviewer.Rcheck Warnings: 0