Package: cytoviewer Version: 1.7.0 Command: /Library/Frameworks/R.framework/Resources/bin/R CMD INSTALL cytoviewer StartedAt: 2025-02-09 15:20:21 -0500 (Sun, 09 Feb 2025) EndedAt: 2025-02-09 15:20:40 -0500 (Sun, 09 Feb 2025) EllapsedTime: 19.1 seconds RetCode: 0 Status: OK