Package: cytoviewer Version: 1.7.0 Command: /Library/Frameworks/R.framework/Resources/bin/R CMD INSTALL cytoviewer StartedAt: 2025-02-03 15:37:00 -0500 (Mon, 03 Feb 2025) EndedAt: 2025-02-03 15:38:04 -0500 (Mon, 03 Feb 2025) EllapsedTime: 63.2 seconds RetCode: 0 Status: OK