Package: cytoviewer Version: 1.7.0 Command: /home/biocbuild/bbs-3.21-bioc/R/bin/R CMD build --keep-empty-dirs --no-resave-data cytoviewer StartedAt: 2025-02-09 16:52:47 -0500 (Sun, 09 Feb 2025) EndedAt: 2025-02-09 16:54:02 -0500 (Sun, 09 Feb 2025) EllapsedTime: 75.1 seconds RetCode: 0 Status: OK PackageFile: cytoviewer_1.7.0.tar.gz PackageFileSize: 9.26 MiB