Package: cytoviewer Version: 1.7.0 Command: /home/biocbuild/bbs-3.21-bioc/R/bin/R CMD INSTALL cytoviewer StartedAt: 2025-02-04 15:34:04 -0500 (Tue, 04 Feb 2025) EndedAt: 2025-02-04 15:34:53 -0500 (Tue, 04 Feb 2025) EllapsedTime: 48.6 seconds RetCode: 0 Status: OK