Package: cytoviewer Version: 1.7.0 Command: chmod a+r cytoviewer -R && E:\biocbuild\bbs-3.21-bioc\R\bin\R.exe CMD build --keep-empty-dirs --no-resave-data cytoviewer StartedAt: 2025-02-09 18:10:10 -0500 (Sun, 09 Feb 2025) EndedAt: 2025-02-09 18:11:36 -0500 (Sun, 09 Feb 2025) EllapsedTime: 86.3 seconds RetCode: 0 Status: OK PackageFile: cytoviewer_1.7.0.tar.gz PackageFileSize: 9.26 MiB