Package: cytoviewer Version: 1.7.0 Command: E:\biocbuild\bbs-3.21-bioc\R\bin\R.exe CMD check --no-multiarch --install=check:cytoviewer.install-out.txt --library=E:\biocbuild\bbs-3.21-bioc\R\library --no-vignettes --timings cytoviewer_1.7.0.tar.gz StartedAt: 2025-02-04 00:38:29 -0500 (Tue, 04 Feb 2025) EndedAt: 2025-02-04 00:45:17 -0500 (Tue, 04 Feb 2025) EllapsedTime: 408.0 seconds RetCode: 0 Status: OK CheckDir: cytoviewer.Rcheck Warnings: 0