Package: dada2 Version: 1.35.0 Command: rm -rf dada2.buildbin-libdir && mkdir dada2.buildbin-libdir && /Users/biocbuild/BBS/utils/build-universal.sh dada2_1.35.0.tar.gz /Library/Frameworks/R.framework/Resources/bin/R dada2.buildbin-libdir StartedAt: 2025-02-04 22:13:16 -0500 (Tue, 04 Feb 2025) EndedAt: 2025-02-04 22:13:47 -0500 (Tue, 04 Feb 2025) EllapsedTime: 30.6 seconds RetCode: 0 Status: OK PackageFile: dada2_1.35.0.tgz PackageFileSize: 3.358 MiB