Package: dada2 Version: 1.35.0 Command: /Library/Frameworks/R.framework/Resources/bin/R CMD INSTALL dada2 StartedAt: 2025-02-09 15:12:15 -0500 (Sun, 09 Feb 2025) EndedAt: 2025-02-09 15:12:41 -0500 (Sun, 09 Feb 2025) EllapsedTime: 26.0 seconds RetCode: 0 Status: OK