Package: dada2 Version: 1.35.0 Command: /Library/Frameworks/R.framework/Resources/bin/R CMD build --keep-empty-dirs --no-resave-data dada2 StartedAt: 2025-02-03 16:29:32 -0500 (Mon, 03 Feb 2025) EndedAt: 2025-02-03 16:31:18 -0500 (Mon, 03 Feb 2025) EllapsedTime: 106.5 seconds RetCode: 0 Status: OK PackageFile: dada2_1.35.0.tar.gz PackageFileSize: 2.766 MiB