Package: dada2 Version: 1.35.0 Command: /Library/Frameworks/R.framework/Resources/bin/R CMD check --install=check:dada2.install-out.txt --library=/Library/Frameworks/R.framework/Resources/library --no-vignettes --timings dada2_1.35.0.tar.gz StartedAt: 2025-02-03 19:57:15 -0500 (Mon, 03 Feb 2025) EndedAt: 2025-02-03 20:01:59 -0500 (Mon, 03 Feb 2025) EllapsedTime: 283.6 seconds RetCode: 0 Status: WARNINGS CheckDir: dada2.Rcheck Warnings: 1