Package: dada2 Version: 1.35.0 Command: /home/biocbuild/bbs-3.21-bioc/R/bin/R CMD build --keep-empty-dirs --no-resave-data dada2 StartedAt: 2025-02-09 16:52:55 -0500 (Sun, 09 Feb 2025) EndedAt: 2025-02-09 16:54:40 -0500 (Sun, 09 Feb 2025) EllapsedTime: 105.1 seconds RetCode: 0 Status: OK PackageFile: dada2_1.35.0.tar.gz PackageFileSize: 2.749 MiB