Package: dada2 Version: 1.35.0 Command: /home/biocbuild/bbs-3.21-bioc/R/bin/R CMD check --install=check:dada2.install-out.txt --library=/home/biocbuild/bbs-3.21-bioc/R/site-library --timings dada2_1.35.0.tar.gz StartedAt: 2025-02-09 21:26:53 -0500 (Sun, 09 Feb 2025) EndedAt: 2025-02-09 21:31:45 -0500 (Sun, 09 Feb 2025) EllapsedTime: 292.3 seconds RetCode: 0 Status: WARNINGS CheckDir: dada2.Rcheck Warnings: 1