Package: dada2 Version: 1.35.0 Command: rm -rf dada2.buildbin-libdir && mkdir dada2.buildbin-libdir && E:\biocbuild\bbs-3.21-bioc\R\bin\R.exe CMD INSTALL --build --library=dada2.buildbin-libdir dada2_1.35.0.tar.gz StartedAt: 2025-02-10 07:34:21 -0500 (Mon, 10 Feb 2025) EndedAt: 2025-02-10 07:36:26 -0500 (Mon, 10 Feb 2025) EllapsedTime: 125.0 seconds RetCode: 0 Status: OK PackageFile: dada2_1.35.0.zip PackageFileSize: 3.399 MiB