Package: dada2 Version: 1.35.0 Command: chmod a+r dada2 -R && E:\biocbuild\bbs-3.21-bioc\R\bin\R.exe CMD build --keep-empty-dirs --no-resave-data dada2 StartedAt: 2025-02-03 18:22:52 -0500 (Mon, 03 Feb 2025) EndedAt: 2025-02-03 18:25:50 -0500 (Mon, 03 Feb 2025) EllapsedTime: 177.6 seconds RetCode: 0 Status: OK PackageFile: dada2_1.35.0.tar.gz PackageFileSize: 2.505 MiB