Package: dada2 Version: 1.35.0 Command: E:\biocbuild\bbs-3.21-bioc\R\bin\R.exe CMD check --no-multiarch --install=check:dada2.install-out.txt --library=E:\biocbuild\bbs-3.21-bioc\R\library --no-vignettes --timings dada2_1.35.0.tar.gz StartedAt: 2025-02-10 00:10:49 -0500 (Mon, 10 Feb 2025) EndedAt: 2025-02-10 00:16:26 -0500 (Mon, 10 Feb 2025) EllapsedTime: 336.2 seconds RetCode: 0 Status: WARNINGS CheckDir: dada2.Rcheck Warnings: 1