Package: dada2 Version: 1.35.0 Command: E:\biocbuild\bbs-3.21-bioc\R\bin\R.exe CMD INSTALL dada2 StartedAt: 2025-02-09 16:51:54 -0500 (Sun, 09 Feb 2025) EndedAt: 2025-02-09 16:54:06 -0500 (Sun, 09 Feb 2025) EllapsedTime: 132.4 seconds RetCode: 0 Status: OK